BEGIN:VCALENDAR
VERSION:2.0
PRODID:-//ChamberMaster//Event Calendar 2.0//EN
METHOD:PUBLISH
X-PUBLISHED-TTL:P3D
REFRESH-INTERVAL:P3D
CALSCALE:GREGORIAN
BEGIN:VEVENT
DTSTART:20250516T030000Z
DTEND:20250516T050000Z
X-MICROSOFT-CDO-ALLDAYEVENT:FALSE
SUMMARY:Saint Rocke presents: Max Muscato w/ Bedeker & Paula Fong
DESCRIPTION:Max Muscato\n\nw/ Bedeker & Paula Fong\n\nGenre: Singer-Songwriter
X-ALT-DESC;FMTTYPE=text/html:Max Muscato<br />\nw/ Bedeker &amp\; Paula Fong<br />\nGenre: Singer-Songwriter
LOCATION:Saint Rocke 142 Pacific Coast Hwy\, Hermosa Beach\, CA 90254
UID:e.2438.11614
SEQUENCE:3
DTSTAMP:20260422T232006Z
URL:https://business.hbchamber.net/events/details/saint-rocke-presents-max-muscato-w-bedeker-paula-fong-11614
END:VEVENT

END:VCALENDAR
