BEGIN:VCALENDAR
VERSION:2.0
PRODID:-//ChamberMaster//Event Calendar 2.0//EN
METHOD:PUBLISH
X-PUBLISHED-TTL:P3D
REFRESH-INTERVAL:P3D
CALSCALE:GREGORIAN
BEGIN:VEVENT
DTSTART:20241115T030000Z
DTEND:20241115T070000Z
X-MICROSOFT-CDO-ALLDAYEVENT:FALSE
SUMMARY:Saint Rocke Presents Magic Hunks w/ Special Guests
DESCRIPTION:Magic Hunks w/ Special Guests\n\nGenre: Magic Mike style dancing\n\n21+ Only
X-ALT-DESC;FMTTYPE=text/html:Magic Hunks w/ Special Guests<br />\nGenre: Magic Mike style dancing<br />\n21+ Only
LOCATION:Saint Rocke 142 Pacific Coast Hwy\, Hermosa Beach\, CA 90254
UID:e.2438.10759
SEQUENCE:3
DTSTAMP:20260422T192420Z
URL:https://business.hbchamber.net/events/details/saint-rocke-presents-magic-hunks-w-special-guests-10759
END:VEVENT

END:VCALENDAR
