BEGIN:VCALENDAR
VERSION:2.0
PRODID:-//ChamberMaster//Event Calendar 2.0//EN
METHOD:PUBLISH
X-PUBLISHED-TTL:P3D
REFRESH-INTERVAL:P3D
CALSCALE:GREGORIAN
BEGIN:VEVENT
DTSTART:20241229T030000Z
DTEND:20241229T070000Z
X-MICROSOFT-CDO-ALLDAYEVENT:FALSE
SUMMARY:Saint Rocke Presents: Jimmy’s Buffet – Celebrating the Music of Jimmy Buffett w/ Cobra Cowboy
DESCRIPTION:Jimmy's Buffet   Celebrating the Music of Jimmy Buffett w/ Cobra Cowboy\n\nGenre: Cover Band\n\n21+ Only
X-ALT-DESC;FMTTYPE=text/html:Jimmy&rsquo\;s Buffet &ndash\; Celebrating the Music of Jimmy Buffett w/ Cobra Cowboy<br />\nGenre: Cover Band<br />\n21+ Only
LOCATION:Saint Rocke 142 Pacific Coast Hwy\, Hermosa Beach\, CA 90254
UID:e.2438.11060
SEQUENCE:3
DTSTAMP:20260422T174843Z
URL:https://business.hbchamber.net/events/details/saint-rocke-presents-jimmy-s-buffet-celebrating-the-music-of-jimmy-buffett-w-cobra-cowboy-11060
END:VEVENT

END:VCALENDAR
