BEGIN:VCALENDAR
VERSION:2.0
PRODID:-//ChamberMaster//Event Calendar 2.0//EN
METHOD:PUBLISH
X-PUBLISHED-TTL:P3D
REFRESH-INTERVAL:P3D
CALSCALE:GREGORIAN
BEGIN:VEVENT
DTSTART:20250428T030000Z
DTEND:20250428T050000Z
X-MICROSOFT-CDO-ALLDAYEVENT:FALSE
SUMMARY:Saint Rocke presents: Jazz Hang feat. Albion Kristof & Special Guests
DESCRIPTION:Jazz Hang feat. Albion Kristof & Special Guests\n\nGenre: Jazz
X-ALT-DESC;FMTTYPE=text/html:Jazz Hang feat. Albion Kristof &amp\; Special Guests<br />\nGenre: Jazz<br />\n
LOCATION:Saint Rocke 142 Pacific Coast Hwy\, Hermosa Beach\, CA 90254
UID:e.2438.11593
SEQUENCE:3
DTSTAMP:20260422T211817Z
URL:https://business.hbchamber.net/events/details/saint-rocke-presents-jazz-hang-feat-albion-kristof-special-guests-11593
END:VEVENT

END:VCALENDAR
