BEGIN:VCALENDAR
VERSION:2.0
PRODID:-//ChamberMaster//Event Calendar 2.0//EN
METHOD:PUBLISH
X-PUBLISHED-TTL:P3D
REFRESH-INTERVAL:P3D
CALSCALE:GREGORIAN
BEGIN:VEVENT
DTSTART:20241104T000000Z
DTEND:20241104T040000Z
X-MICROSOFT-CDO-ALLDAYEVENT:FALSE
SUMMARY:Saint Rocke Presents Hunter Benson EP Release w/ Trey Comstock & Marc Erickson
DESCRIPTION:Hunter Benson EP Release w/ Trey Comstock & Marc Erickson\n\nGenre: Country/Southern/Grunge Rock\n\n21+ only
X-ALT-DESC;FMTTYPE=text/html:Hunter Benson EP Release w/ Trey Comstock &amp\; Marc Erickson<br />\nGenre: Country/Southern/Grunge Rock<br />\n21+ only
LOCATION:Saint Rocke 142 Pacific Coast Hwy\, Hermosa Beach\, CA 90254
UID:e.2438.10752
SEQUENCE:3
DTSTAMP:20260422T192601Z
URL:https://business.hbchamber.net/events/details/saint-rocke-presents-hunter-benson-ep-release-w-trey-comstock-marc-erickson-10752
END:VEVENT

END:VCALENDAR
