BEGIN:VCALENDAR
VERSION:2.0
PRODID:-//ChamberMaster//Event Calendar 2.0//EN
METHOD:PUBLISH
X-PUBLISHED-TTL:P3D
REFRESH-INTERVAL:P3D
CALSCALE:GREGORIAN
BEGIN:VEVENT
DTSTART:20250519T020000Z
DTEND:20250519T040000Z
X-MICROSOFT-CDO-ALLDAYEVENT:FALSE
SUMMARY:Saint Rocke presents: Heebie & The Jeebies w/ The Killing Floors and Orali
DESCRIPTION:Heebie & The Jeebies w/ The Killing Floors and Orali\n\nGenre: Indie/Rock
X-ALT-DESC;FMTTYPE=text/html:Heebie &amp\; The Jeebies w/ The Killing Floors and Orali<br />\nGenre: Indie/Rock
LOCATION:Saint Rocke 142 Pacific Coast Hwy\, Hermosa Beach\, CA 90254
UID:e.2438.11617
SEQUENCE:3
DTSTAMP:20260422T232059Z
URL:https://business.hbchamber.net/events/details/saint-rocke-presents-heebie-the-jeebies-w-the-killing-floors-and-orali-11617
END:VEVENT

END:VCALENDAR
