BEGIN:VCALENDAR
VERSION:2.0
PRODID:-//ChamberMaster//Event Calendar 2.0//EN
METHOD:PUBLISH
X-PUBLISHED-TTL:P3D
REFRESH-INTERVAL:P3D
CALSCALE:GREGORIAN
BEGIN:VEVENT
DTSTART:20250118T030000Z
DTEND:20250118T070000Z
X-MICROSOFT-CDO-ALLDAYEVENT:FALSE
SUMMARY:Saint Rocke Presents: Gilby Clarke w/ Ronny North
DESCRIPTION:Gilby Clarke w/ Ronny North
X-ALT-DESC;FMTTYPE=text/html:Gilby Clarke w/ Ronny North
LOCATION:Saint Rocke 142 Pacific Coast Hwy Hermosa Beach\, CA 90254
UID:e.2438.11124
SEQUENCE:3
DTSTAMP:20260422T143354Z
URL:https://business.hbchamber.net/events/details/saint-rocke-presents-gilby-clarke-w-ronny-north-11124
END:VEVENT

END:VCALENDAR
