BEGIN:VCALENDAR
VERSION:2.0
PRODID:-//ChamberMaster//Event Calendar 2.0//EN
METHOD:PUBLISH
X-PUBLISHED-TTL:P3D
REFRESH-INTERVAL:P3D
CALSCALE:GREGORIAN
BEGIN:VEVENT
DTSTART:20250425T030000Z
DTEND:20250425T050000Z
X-MICROSOFT-CDO-ALLDAYEVENT:FALSE
SUMMARY:Saint Rocke presents: garbagebarbie w/ Space Flower w/ Special Guests
DESCRIPTION:garbagebarbie w/ Space Flower\n\nw/ Special Guests\n\nGenre: Indie
X-ALT-DESC;FMTTYPE=text/html:garbagebarbie w/ Space Flower<br />\nw/ Special Guests<br />\nGenre: Indie
LOCATION:Saint Rocke 142 Pacific Coast Hwy\, Hermosa Beach\, CA 90254
UID:e.2438.11590
SEQUENCE:3
DTSTAMP:20260422T210913Z
URL:https://business.hbchamber.net/events/details/saint-rocke-presents-garbagebarbie-w-space-flower-w-special-guests-11590
END:VEVENT

END:VCALENDAR
