BEGIN:VCALENDAR
VERSION:2.0
PRODID:-//ChamberMaster//Event Calendar 2.0//EN
METHOD:PUBLISH
X-PUBLISHED-TTL:P3D
REFRESH-INTERVAL:P3D
CALSCALE:GREGORIAN
BEGIN:VEVENT
DTSTART:20241127T030000Z
DTEND:20241127T070000Z
X-MICROSOFT-CDO-ALLDAYEVENT:FALSE
SUMMARY:Saint Rocke Presents **FREE** Tiki Tuesday feat. The Royal Rats w/ Special Guests
DESCRIPTION:**FREE** Tiki Tuesday feat. The Royal Rats w/ Special Guests\n\nGenre: Surf Music\n\n21+ Only
X-ALT-DESC;FMTTYPE=text/html:**FREE**&nbsp\;Tiki Tuesday feat. The Royal Rats w/ Special Guests<br />\nGenre: Surf Music<br />\n21+ Only
LOCATION:Saint Rocke 142 Pacific Coast Hwy\, Hermosa Beach\, CA 90254
UID:e.2438.10767
SEQUENCE:3
DTSTAMP:20260422T194831Z
URL:https://business.hbchamber.net/events/details/saint-rocke-presents-free-tiki-tuesday-feat-the-royal-rats-w-special-guests-10767
END:VEVENT

END:VCALENDAR
