BEGIN:VCALENDAR
VERSION:2.0
PRODID:-//ChamberMaster//Event Calendar 2.0//EN
METHOD:PUBLISH
X-PUBLISHED-TTL:P3D
REFRESH-INTERVAL:P3D
CALSCALE:GREGORIAN
BEGIN:VEVENT
DTSTART:20250115T030000Z
DTEND:20250115T070000Z
X-MICROSOFT-CDO-ALLDAYEVENT:FALSE
SUMMARY:Saint Rocke Presents: **FREE** Tiki Tuesday feat. The Royal Rats
DESCRIPTION:**FREE** Tiki Tuesday feat. The Royal Rats
X-ALT-DESC;FMTTYPE=text/html:**FREE** Tiki Tuesday feat. The Royal Rats
LOCATION:Saint Rocke 142 Pacific Coast Hwy Hermosa Beach\, CA 90254
UID:e.2438.11122
SEQUENCE:3
DTSTAMP:20260422T161712Z
URL:https://business.hbchamber.net/events/details/saint-rocke-presents-free-tiki-tuesday-feat-the-royal-rats-11122
END:VEVENT

END:VCALENDAR
