BEGIN:VCALENDAR
VERSION:2.0
PRODID:-//ChamberMaster//Event Calendar 2.0//EN
METHOD:PUBLISH
X-PUBLISHED-TTL:P3D
REFRESH-INTERVAL:P3D
CALSCALE:GREGORIAN
BEGIN:VEVENT
DTSTART:20250508T023000Z
DTEND:20250508T043000Z
X-MICROSOFT-CDO-ALLDAYEVENT:FALSE
SUMMARY:Saint Rocke presents: **FREE** Saint Rocke Presents: BLINGO!
DESCRIPTION:**FREE** Saint Rocke Presents: BLINGO!\n\nw/ Kevin & Corboy\n\nGenre: 80's style BLINGO!\n\n\n\nGet ready for a night to remember\, folks! It's an 80's "BLINGO" Dance Party! Expect some groovy classics to shimmy to\, BINGO + fabulous prizes\, and our HOSTS bringing the wild and wacky antics! Let the games begin!!
X-ALT-DESC;FMTTYPE=text/html:**FREE** Saint Rocke Presents: BLINGO!<br />\nw/ Kevin &amp\; Corboy<br />\nGenre: 80&rsquo\;s style BLINGO!<br />\n<br />\nGet ready for a night to remember\, folks! It&rsquo\;s an 80&rsquo\;s &ldquo\;BLINGO&rdquo\; Dance Party! Expect some groovy classics to shimmy to\, BINGO + fabulous prizes\, and our HOSTS bringing the wild and wacky antics!&nbsp\;Let the games begin!!&nbsp\;
LOCATION:Saint Rocke 142 Pacific Coast Hwy\, Hermosa Beach\, CA 90254
UID:e.2438.11608
SEQUENCE:3
DTSTAMP:20260422T225127Z
URL:https://business.hbchamber.net/events/details/saint-rocke-presents-free-saint-rocke-presents-blingo-11608
END:VEVENT

END:VCALENDAR
