BEGIN:VCALENDAR
VERSION:2.0
PRODID:-//ChamberMaster//Event Calendar 2.0//EN
METHOD:PUBLISH
X-PUBLISHED-TTL:P3D
REFRESH-INTERVAL:P3D
CALSCALE:GREGORIAN
BEGIN:VEVENT
DTSTART:20241114T020000Z
DTEND:20241114T060000Z
X-MICROSOFT-CDO-ALLDAYEVENT:FALSE
SUMMARY:Saint Rocke Presents **FREE** Jack Daniel’s Presents: Big Shot Karaoke! Happy Hour all night
DESCRIPTION:**FREE** Jack Daniel's Presents: Big Shot Karaoke! Happy Hour all night\n\nGenre: Karaoke\, Cover Band\n\n21+ Only
X-ALT-DESC;FMTTYPE=text/html:**FREE** Jack Daniel&rsquo\;s Presents: Big Shot Karaoke! Happy Hour all night<br />\nGenre: Karaoke\, Cover Band<br />\n21+ Only
LOCATION:Saint Rocke 142 Pacific Coast Hwy\, Hermosa Beach\, CA 90254
UID:e.2438.10758
SEQUENCE:3
DTSTAMP:20260422T194745Z
URL:https://business.hbchamber.net/events/details/saint-rocke-presents-free-jack-daniel-s-presents-big-shot-karaoke-happy-hour-all-night-10758
END:VEVENT

END:VCALENDAR
