BEGIN:VCALENDAR
VERSION:2.0
PRODID:-//ChamberMaster//Event Calendar 2.0//EN
METHOD:PUBLISH
X-PUBLISHED-TTL:P3D
REFRESH-INTERVAL:P3D
CALSCALE:GREGORIAN
BEGIN:VEVENT
DTSTART:20241108T040000Z
DTEND:20241108T070000Z
X-MICROSOFT-CDO-ALLDAYEVENT:FALSE
SUMMARY:Saint Rocke Presents **FREE** Club Siren: Goth & Darkwave night w/ Special Guests
DESCRIPTION:**FREE** Club Siren: Goth & Darkwave night w/ Special Guests\n\nGenre: Goth & Darkwave\n\n21+ only
X-ALT-DESC;FMTTYPE=text/html:**FREE** Club Siren: Goth &amp\; Darkwave night w/ Special Guests<br />\nGenre: Goth &amp\; Darkwave<br />\n21+ only<br />\n
LOCATION:Saint Rocke 142 Pacific Coast Hwy\, Hermosa Beach\, CA 90254
UID:e.2438.10754
SEQUENCE:3
DTSTAMP:20260422T194831Z
URL:https://business.hbchamber.net/events/details/saint-rocke-presents-free-club-siren-goth-darkwave-night-w-special-guests-10754
END:VEVENT

END:VCALENDAR
