BEGIN:VCALENDAR
VERSION:2.0
PRODID:-//ChamberMaster//Event Calendar 2.0//EN
METHOD:PUBLISH
X-PUBLISHED-TTL:P3D
REFRESH-INTERVAL:P3D
CALSCALE:GREGORIAN
BEGIN:VEVENT
DTSTART:20250109T023000Z
DTEND:20250109T063000Z
X-MICROSOFT-CDO-ALLDAYEVENT:FALSE
SUMMARY:Saint Rocke Presents: **FREE** Bitchin' Blingo
DESCRIPTION:**FREE** Bitchin' Blingo
X-ALT-DESC;FMTTYPE=text/html:**FREE** Bitchin&#39\; Blingo
LOCATION:Saint Rocke 142 Pacific Coast Hwy Hermosa Beach\, CA 90254
UID:e.2438.11119
SEQUENCE:3
DTSTAMP:20260420T181604Z
URL:https://business.hbchamber.net/events/details/saint-rocke-presents-free-bitchin-blingo-11119
END:VEVENT

END:VCALENDAR
