BEGIN:VCALENDAR
VERSION:2.0
PRODID:-//ChamberMaster//Event Calendar 2.0//EN
METHOD:PUBLISH
X-PUBLISHED-TTL:P3D
REFRESH-INTERVAL:P3D
CALSCALE:GREGORIAN
BEGIN:VEVENT
DTSTART:20241103T020000Z
DTEND:20241103T060000Z
X-MICROSOFT-CDO-ALLDAYEVENT:FALSE
SUMMARY:Saint Rocke Presents Freakout Festival Hermosa Beach w/ Plague Vendor and Slaughterhouse
DESCRIPTION:Freakout Festival Hermosa Beach w/ Plague Vendor and Slaughterhouse\n\nGenre: Punk\n\n21+ only
X-ALT-DESC;FMTTYPE=text/html:Freakout Festival Hermosa Beach w/ Plague Vendor and Slaughterhouse<br />\nGenre: Punk<br />\n21+ only
LOCATION:Saint Rocke 142 Pacific Coast Hwy\, Hermosa Beach\, CA 90254
UID:e.2438.10751
SEQUENCE:3
DTSTAMP:20260422T195210Z
URL:https://business.hbchamber.net/events/details/saint-rocke-presents-freakout-festival-hermosa-beach-w-plague-vendor-and-slaughterhouse-10751
END:VEVENT

END:VCALENDAR
