BEGIN:VCALENDAR
VERSION:2.0
PRODID:-//ChamberMaster//Event Calendar 2.0//EN
METHOD:PUBLISH
X-PUBLISHED-TTL:P3D
REFRESH-INTERVAL:P3D
CALSCALE:GREGORIAN
BEGIN:VEVENT
DTSTART:20241201T030000Z
DTEND:20241201T070000Z
X-MICROSOFT-CDO-ALLDAYEVENT:FALSE
SUMMARY:Saint Rocke Presents Fast Times: An 80s Concert Experience w/ Hi Fi Soundtrack
DESCRIPTION:Fast Times: An 80s Concert Experience w/ Hi Fi Soundtrack\n\nGenre: 80's Cover Band\n\n21+ Only
X-ALT-DESC;FMTTYPE=text/html:Fast Times: An 80s Concert Experience w/ Hi Fi Soundtrack<br />\nGenre: 80&rsquo\;s Cover Band<br />\n21+ Only<br />\n
LOCATION:Saint Rocke 142 Pacific Coast Hwy\, Hermosa Beach\, CA 90254
UID:e.2438.10770
SEQUENCE:3
DTSTAMP:20260422T194907Z
URL:https://business.hbchamber.net/events/details/saint-rocke-presents-fast-times-an-80s-concert-experience-w-hi-fi-soundtrack-10770
END:VEVENT

END:VCALENDAR
