BEGIN:VCALENDAR
VERSION:2.0
PRODID:-//ChamberMaster//Event Calendar 2.0//EN
METHOD:PUBLISH
X-PUBLISHED-TTL:P3D
REFRESH-INTERVAL:P3D
CALSCALE:GREGORIAN
BEGIN:VEVENT
DTSTART:20250419T030000Z
DTEND:20250419T050000Z
X-MICROSOFT-CDO-ALLDAYEVENT:FALSE
SUMMARY:Saint Rocke presents: Fast Times: An 80s Concert Experience
DESCRIPTION:Fast Times: An 80s Concert Experience\n\nGenre: 80's Cover Band
X-ALT-DESC;FMTTYPE=text/html:Fast Times: An 80s Concert Experience<br />\nGenre: 80&rsquo\;s Cover Band
LOCATION:Saint Rocke 142 Pacific Coast Hwy\, Hermosa Beach\, CA 90254
UID:e.2438.11588
SEQUENCE:3
DTSTAMP:20260422T211653Z
URL:https://business.hbchamber.net/events/details/saint-rocke-presents-fast-times-an-80s-concert-experience-11588
END:VEVENT

END:VCALENDAR
