BEGIN:VCALENDAR
VERSION:2.0
PRODID:-//ChamberMaster//Event Calendar 2.0//EN
METHOD:PUBLISH
X-PUBLISHED-TTL:P3D
REFRESH-INTERVAL:P3D
CALSCALE:GREGORIAN
BEGIN:VEVENT
DTSTART:20250504T030000Z
DTEND:20250504T050000Z
X-MICROSOFT-CDO-ALLDAYEVENT:FALSE
SUMMARY:Saint Rocke presents: Emo Night Live: With tributes to My Chemical Romance\, AFI & Panic at the Disco
DESCRIPTION:Emo Night Live: With tributes to My Chemical Romance\, AFI & Panic at the Disco \n\nGenre: Emo
X-ALT-DESC;FMTTYPE=text/html:Emo Night Live: With tributes to My Chemical Romance\, AFI &amp\; Panic at the Disco&nbsp\;<br />\nGenre: Emo
LOCATION:Saint Rocke 142 Pacific Coast Hwy\, Hermosa Beach\, CA 90254
UID:e.2438.11605
SEQUENCE:3
DTSTAMP:20260422T232253Z
URL:https://business.hbchamber.net/events/details/saint-rocke-presents-emo-night-live-with-tributes-to-my-chemical-romance-afi-panic-at-the-disco-11605
END:VEVENT

END:VCALENDAR
