BEGIN:VCALENDAR
VERSION:2.0
PRODID:-//ChamberMaster//Event Calendar 2.0//EN
METHOD:PUBLISH
X-PUBLISHED-TTL:P3D
REFRESH-INTERVAL:P3D
CALSCALE:GREGORIAN
BEGIN:VEVENT
DTSTART:20250525T030000Z
DTEND:20250525T050000Z
X-MICROSOFT-CDO-ALLDAYEVENT:FALSE
SUMMARY:Saint Rocke presents: Dueling Pianos w/ Special Guests
DESCRIPTION:Dueling Pianos\n\nw/ Special Guests\n\nGenre: all!
X-ALT-DESC;FMTTYPE=text/html:Dueling Pianos<br />\nw/ Special Guests<br />\nGenre: all!<br />\n
LOCATION:Saint Rocke 142 Pacific Coast Hwy\, Hermosa Beach\, CA 90254
UID:e.2438.11620
SEQUENCE:3
DTSTAMP:20260422T224958Z
URL:https://business.hbchamber.net/events/details/saint-rocke-presents-dueling-pianos-w-special-guests-11620
END:VEVENT

END:VCALENDAR
