BEGIN:VCALENDAR
VERSION:2.0
PRODID:-//ChamberMaster//Event Calendar 2.0//EN
METHOD:PUBLISH
X-PUBLISHED-TTL:P3D
REFRESH-INTERVAL:P3D
CALSCALE:GREGORIAN
BEGIN:VEVENT
DTSTART:20250628T030000Z
DTEND:20250628T050000Z
X-MICROSOFT-CDO-ALLDAYEVENT:FALSE
SUMMARY:Saint Rocke presents: Dueling Pianos
DESCRIPTION:Dueling Pianos\n\nGenre: all!\n\n21+ Only\n\n\n\nSainte Rocke is kicking off the return of Dueling Pianos. Scott Doyle and special guest Chris Gale\, two Dueling\n\nPiano Veterans\, will be playing YOUR songs as requested and inviting you to drink and sing\n\nalong with the silliness. Oh! and laugh till your sides hurt. No matter what your jam is\, they've\n\ngot you covered from Elton and Billy to Metallica to Lady Gaga. If it were any more fun\, it\n\nwould be illegal. In fact\, it is in some states.
X-ALT-DESC;FMTTYPE=text/html:Dueling Pianos<br />\nGenre: all!<br />\n21+ Only<br />\n<br />\nSainte Rocke is kicking off the return of Dueling Pianos. Scott Doyle and special guest Chris Gale\, two Dueling<br />\nPiano Veterans\, will be playing YOUR songs as requested and inviting you to drink and sing<br />\nalong with the silliness. Oh! and laugh till your sides hurt. No matter what your jam is\, they&rsquo\;ve<br />\ngot you covered from Elton and Billy to Metallica to Lady Gaga. If it were any more fun\, it<br />\nwould be illegal. In fact\, it is in some states.
LOCATION:142 Pacific Coast Hwy\, Hermosa Beach\, CA 90254
UID:e.2438.12443
SEQUENCE:3
DTSTAMP:20260423T004111Z
URL:https://business.hbchamber.net/events/details/saint-rocke-presents-dueling-pianos-12443
END:VEVENT

END:VCALENDAR
