BEGIN:VCALENDAR
VERSION:2.0
PRODID:-//ChamberMaster//Event Calendar 2.0//EN
METHOD:PUBLISH
X-PUBLISHED-TTL:P3D
REFRESH-INTERVAL:P3D
CALSCALE:GREGORIAN
BEGIN:VEVENT
DTSTART:20241110T030000Z
DTEND:20241110T070000Z
X-MICROSOFT-CDO-ALLDAYEVENT:FALSE
SUMMARY:Saint Rocke Presents Dopapod w/ Joe Marcinek\, Pete Koopmans\, Joel Meyer\, Brent Brandon & Jason Haan
DESCRIPTION:Dopapod w/ Joe Marcinek\, Pete Koopmans\, Joel Meyer\, Brent Brandon & Jason Haan\n\nGenre: Rock/Jam\n\n21+ Only
X-ALT-DESC;FMTTYPE=text/html:Dopapod w/ Joe Marcinek\, Pete Koopmans\, Joel Meyer\, Brent Brandon &amp\; Jason Haan<br />\nGenre: Rock/Jam<br />\n21+ Only
LOCATION:Saint Rocke 142 Pacific Coast Hwy\, Hermosa Beach\, CA 90254
UID:e.2438.10756
SEQUENCE:3
DTSTAMP:20260422T195057Z
URL:https://business.hbchamber.net/events/details/saint-rocke-presents-dopapod-w-joe-marcinek-pete-koopmans-joel-meyer-brent-brandon-jason-haan-10756
END:VEVENT

END:VCALENDAR
