BEGIN:VCALENDAR
VERSION:2.0
PRODID:-//ChamberMaster//Event Calendar 2.0//EN
METHOD:PUBLISH
X-PUBLISHED-TTL:P3D
REFRESH-INTERVAL:P3D
CALSCALE:GREGORIAN
BEGIN:VEVENT
DTSTART:20241111T020000Z
DTEND:20241111T060000Z
X-MICROSOFT-CDO-ALLDAYEVENT:FALSE
SUMMARY:Saint Rocke Presents David Rosales & His Band of Scoundrels w/ Kira Lingman
DESCRIPTION:David Rosales & His Band of Scoundrels w/ Kira Lingman\n\nGenre: Americana\n\n21+ only
X-ALT-DESC;FMTTYPE=text/html:David Rosales &amp\; His Band of Scoundrels w/ Kira Lingman<br />\nGenre: Americana<br />\n21+ only
LOCATION:Saint Rocke 142 Pacific Coast Hwy\, Hermosa Beach\, CA 90254
UID:e.2438.10757
SEQUENCE:3
DTSTAMP:20260422T194907Z
URL:https://business.hbchamber.net/events/details/saint-rocke-presents-david-rosales-his-band-of-scoundrels-w-kira-lingman-10757
END:VEVENT

END:VCALENDAR
