BEGIN:VCALENDAR
VERSION:2.0
PRODID:-//ChamberMaster//Event Calendar 2.0//EN
METHOD:PUBLISH
X-PUBLISHED-TTL:P3D
REFRESH-INTERVAL:P3D
CALSCALE:GREGORIAN
BEGIN:VEVENT
DTSTART:20241117T030000Z
DTEND:20241117T070000Z
X-MICROSOFT-CDO-ALLDAYEVENT:FALSE
SUMMARY:Saint Rocke Presents Cubensis: Grateful Dead Music Experience + Shakedown Street\, come early & shop!
DESCRIPTION:Cubensis: Grateful Dead Music Experience + Shakedown Street\, come early & shop!\n\nGenre: Rock\n\n21+ Only
X-ALT-DESC;FMTTYPE=text/html:Cubensis: Grateful Dead Music Experience + Shakedown Street\, come early &amp\; shop!<br />\nGenre: Rock<br />\n21+ Only
LOCATION:Saint Rocke 142 Pacific Coast Hwy\, Hermosa Beach\, CA 90254
UID:e.2438.10761
SEQUENCE:3
DTSTAMP:20260422T194833Z
URL:https://business.hbchamber.net/events/details/saint-rocke-presents-cubensis-grateful-dead-music-experience-shakedown-street-come-early-shop-10761
END:VEVENT

END:VCALENDAR
