BEGIN:VCALENDAR
VERSION:2.0
PRODID:-//ChamberMaster//Event Calendar 2.0//EN
METHOD:PUBLISH
X-PUBLISHED-TTL:P3D
REFRESH-INTERVAL:P3D
CALSCALE:GREGORIAN
BEGIN:VEVENT
DTSTART:20250704T030000Z
DTEND:20250704T050000Z
X-MICROSOFT-CDO-ALLDAYEVENT:FALSE
SUMMARY:Saint Rocke presents: Cubensis: Grateful Dead Music Experience
DESCRIPTION:Cubensis: Grateful Dead Music Experience\n\nGenre: Grateful Dead cover band\n\n21+ Only
X-ALT-DESC;FMTTYPE=text/html:Cubensis: Grateful Dead Music Experience<br />\nGenre: Grateful Dead cover band<br />\n21+ Only
LOCATION:142 Pacific Coast Hwy\, Hermosa Beach\, CA 90254
UID:e.2438.12446
SEQUENCE:3
DTSTAMP:20260423T040255Z
URL:https://business.hbchamber.net/events/details/saint-rocke-presents-cubensis-grateful-dead-music-experience-12446
END:VEVENT

END:VCALENDAR
