BEGIN:VCALENDAR
VERSION:2.0
PRODID:-//ChamberMaster//Event Calendar 2.0//EN
METHOD:PUBLISH
X-PUBLISHED-TTL:P3D
REFRESH-INTERVAL:P3D
CALSCALE:GREGORIAN
BEGIN:VEVENT
DTSTART:20250614T030000Z
DTEND:20250614T050000Z
X-MICROSOFT-CDO-ALLDAYEVENT:FALSE
SUMMARY:Saint Rocke presents: Coyote: Yotelandia Release Party with Zoe Osama
DESCRIPTION:Coyote   Yotelandia Release Party with Zoe Osama\n\nGenre: Hip Hop\n\n21+ Only
X-ALT-DESC;FMTTYPE=text/html:Coyote &ndash\; Yotelandia Release Party with Zoe Osama<br />\nGenre: Hip Hop<br />\n21+ Only
LOCATION:142 Pacific Coast Hwy\, Hermosa Beach\, CA 90254
UID:e.2438.12438
SEQUENCE:3
DTSTAMP:20260423T005503Z
URL:https://business.hbchamber.net/events/details/saint-rocke-presents-coyote-yotelandia-release-party-with-zoe-osama-12438
END:VEVENT

END:VCALENDAR
