BEGIN:VCALENDAR
VERSION:2.0
PRODID:-//ChamberMaster//Event Calendar 2.0//EN
METHOD:PUBLISH
X-PUBLISHED-TTL:P3D
REFRESH-INTERVAL:P3D
CALSCALE:GREGORIAN
BEGIN:VEVENT
DTSTART:20250719T030000Z
DTEND:20250719T050000Z
X-MICROSOFT-CDO-ALLDAYEVENT:FALSE
SUMMARY:Saint Rocke presents: Couch Dog w/ Bedsweater
DESCRIPTION:Couch Dog\n\nw/ Bedsweater\n\nGenre: Indie Rock\n\n21+ Only
X-ALT-DESC;FMTTYPE=text/html:Couch Dog<br />\nw/ Bedsweater<br />\nGenre: Indie Rock<br />\n21+ Only
LOCATION:Saint Rocke 142 Pacific Coast Hwy\, Hermosa Beach\, CA 90254
UID:e.2438.12507
SEQUENCE:3
DTSTAMP:20260423T041138Z
URL:https://business.hbchamber.net/events/details/saint-rocke-presents-couch-dog-w-bedsweater-12507
END:VEVENT

END:VCALENDAR
