BEGIN:VCALENDAR
VERSION:2.0
PRODID:-//ChamberMaster//Event Calendar 2.0//EN
METHOD:PUBLISH
X-PUBLISHED-TTL:P3D
REFRESH-INTERVAL:P3D
CALSCALE:GREGORIAN
BEGIN:VEVENT
DTSTART:20250526T030000Z
DTEND:20250526T050000Z
X-MICROSOFT-CDO-ALLDAYEVENT:FALSE
SUMMARY:Saint Rocke presents: Candy-O: A Tribute to The Cars w/ Special Guests
DESCRIPTION:Candy-O: A Tribute to The Cars\n\nw/ Special Guests\n\nGenre: Rock
X-ALT-DESC;FMTTYPE=text/html:Candy-O: A Tribute to The Cars<br />\nw/ Special Guests<br />\nGenre: Rock
LOCATION:Saint Rocke 142 Pacific Coast Hwy\, Hermosa Beach\, CA 90254
UID:e.2438.11621
SEQUENCE:3
DTSTAMP:20260422T225440Z
URL:https://business.hbchamber.net/events/details/saint-rocke-presents-candy-o-a-tribute-to-the-cars-w-special-guests-11621
END:VEVENT

END:VCALENDAR
