BEGIN:VCALENDAR
VERSION:2.0
PRODID:-//ChamberMaster//Event Calendar 2.0//EN
METHOD:PUBLISH
X-PUBLISHED-TTL:P3D
REFRESH-INTERVAL:P3D
CALSCALE:GREGORIAN
BEGIN:VEVENT
DTSTART:20250706T030000Z
DTEND:20250706T050000Z
X-MICROSOFT-CDO-ALLDAYEVENT:FALSE
SUMMARY:Saint Rocke presents: Burritos: A Tribute to Sublime w/ Pollywog Crew: A Beastie Boys Tribute
DESCRIPTION:Burritos w/ Pollywog Crew\n\nGenre: Sublime Tribute\n\n21+ Only
X-ALT-DESC;FMTTYPE=text/html:Burritos&nbsp\;w/ Pollywog Crew<br />\nGenre: Sublime Tribute<br />\n21+ Only
LOCATION:142 Pacific Coast Hwy\, Hermosa Beach\, CA 90254
UID:e.2438.12447
SEQUENCE:3
DTSTAMP:20260423T021944Z
URL:https://business.hbchamber.net/events/details/saint-rocke-presents-burritos-a-tribute-to-sublime-w-pollywog-crew-a-beastie-boys-tribute-12447
END:VEVENT

END:VCALENDAR
