BEGIN:VCALENDAR
VERSION:2.0
PRODID:-//ChamberMaster//Event Calendar 2.0//EN
METHOD:PUBLISH
X-PUBLISHED-TTL:P3D
REFRESH-INTERVAL:P3D
CALSCALE:GREGORIAN
BEGIN:VEVENT
DTSTART:20250713T030000Z
DTEND:20250713T050000Z
X-MICROSOFT-CDO-ALLDAYEVENT:FALSE
SUMMARY:Saint Rocke presents: Bonfire – A High Energy Tribute to Early AC/DC w/ Living Loving Led
DESCRIPTION:Bonfire   A High Energy Tribute to Early AC/DC\n\nw/ Living Loving Led\n\n21+ Only\n\n\n\nBonfire is a high-octane tribute band that pays homage to the early years of the iconic rock band AC/DC. With relentless energy and a commitment to recreating the raw power and classic tunes of AC/DC's formative era\, Bonfire electrifies.
X-ALT-DESC;FMTTYPE=text/html:Bonfire &ndash\; A High Energy Tribute to Early AC/DC<br />\nw/ Living Loving Led<br />\n21+ Only<br />\n<br />\nBonfire is a high-octane tribute band that pays homage to the early years of the iconic rock band AC/DC. With relentless energy and a commitment to recreating the raw power and classic tunes of AC/DC&rsquo\;s formative era\, Bonfire electrifies.
LOCATION:Saint Rocke 142 Pacific Coast Hwy\, Hermosa Beach\, CA 90254
UID:e.2438.12505
SEQUENCE:3
DTSTAMP:20260423T041623Z
URL:https://business.hbchamber.net/events/details/saint-rocke-presents-bonfire-a-high-energy-tribute-to-early-ac-dc-w-living-loving-led-12505
END:VEVENT

END:VCALENDAR
