BEGIN:VCALENDAR
VERSION:2.0
PRODID:-//ChamberMaster//Event Calendar 2.0//EN
METHOD:PUBLISH
X-PUBLISHED-TTL:P3D
REFRESH-INTERVAL:P3D
CALSCALE:GREGORIAN
BEGIN:VEVENT
DTSTART:20250201T030000Z
DTEND:20250201T070000Z
X-MICROSOFT-CDO-ALLDAYEVENT:FALSE
SUMMARY:Saint Rocke Presents: Bob Marley Birthday Bash feat. One Drop Redemption
DESCRIPTION:Bob Marley Birthday Bash feat. One Drop Redemption
X-ALT-DESC;FMTTYPE=text/html:Bob Marley Birthday Bash feat. One Drop Redemption
LOCATION:Saint Rocke 142 Pacific Coast Hwy Hermosa Beach\, CA 90254
UID:e.2438.11131
SEQUENCE:3
DTSTAMP:20260420T182022Z
URL:https://business.hbchamber.net/events/details/saint-rocke-presents-bob-marley-birthday-bash-feat-one-drop-redemption-11131
END:VEVENT

END:VCALENDAR
