BEGIN:VCALENDAR
VERSION:2.0
PRODID:-//ChamberMaster//Event Calendar 2.0//EN
METHOD:PUBLISH
X-PUBLISHED-TTL:P3D
REFRESH-INTERVAL:P3D
CALSCALE:GREGORIAN
BEGIN:VEVENT
DTSTART:20241205T023000Z
DTEND:20241205T063000Z
X-MICROSOFT-CDO-ALLDAYEVENT:FALSE
SUMMARY:Saint Rocke Presents: Bitchin’ Blingo w/ Kevin & Corboy **FREE**
DESCRIPTION:**FREE** Saint Rocke Presents: Bitchin' Blingo w/ Kevin & Corboy\n\nGenre: 80's style blingo!\n\nAs far as run of the night\, people can expect multiple rounds of blingo\, hard to say how many exactly because it's going to be dependent on how many people are there\, fun classics to dance too\, cool prizes and wild antics from our hosts.\n\n21+ Only
X-ALT-DESC;FMTTYPE=text/html:**FREE** Saint Rocke Presents: Bitchin&rsquo\; Blingo&nbsp\;w/ Kevin &amp\; Corboy<br />\nGenre: 80&rsquo\;s style blingo!<br />\nAs far as run of the night\, people can expect multiple rounds of blingo\, hard to say how many exactly because it&rsquo\;s going to be dependent on how many people are there\, fun classics to dance too\, cool prizes and wild antics from our hosts.<br />\n21+ Only
LOCATION:Saint Rocke 142 Pacific Coast Hwy\, Hermosa Beach\, CA 90254
UID:e.2438.11031
SEQUENCE:3
DTSTAMP:20260422T173542Z
URL:https://business.hbchamber.net/events/details/saint-rocke-presents-bitchin-blingo-w-kevin-corboy-free-11031
END:VEVENT

END:VCALENDAR
