BEGIN:VCALENDAR
VERSION:2.0
PRODID:-//ChamberMaster//Event Calendar 2.0//EN
METHOD:PUBLISH
X-PUBLISHED-TTL:P3D
REFRESH-INTERVAL:P3D
CALSCALE:GREGORIAN
BEGIN:VEVENT
DTSTART:20241107T023000Z
DTEND:20241107T063000Z
X-MICROSOFT-CDO-ALLDAYEVENT:FALSE
SUMMARY:Saint Rocke Presents Bitchin’ Blingo w/ Kevin & Corboy
DESCRIPTION:Saint Rocke Presents: Bitchin' Blingo w/ Kevin & Corboy\n\nGenre: 80's style blingo!\n\nAs far as run of the night\, people can expect multiple rounds of blingo\, hard to say how many exactly because it's going to be dependent on how many people are there\, fun classics to dance too\, cool prizes and wild antics from our hosts.\n\n21+ only
X-ALT-DESC;FMTTYPE=text/html:Saint Rocke Presents: Bitchin&rsquo\; Blingo&nbsp\;w/ Kevin &amp\; Corboy<br />\nGenre: 80&rsquo\;s style blingo!<br />\nAs far as run of the night\, people can expect multiple rounds of blingo\, hard to say how many exactly because it&rsquo\;s going to be dependent on how many people are there\, fun classics to dance too\, cool prizes and wild antics from our hosts.<br />\n21+ only
LOCATION:Saint Rocke 142 Pacific Coast Hwy\, Hermosa Beach\, CA 90254
UID:e.2438.10753
SEQUENCE:3
DTSTAMP:20260422T192806Z
URL:https://business.hbchamber.net/events/details/saint-rocke-presents-bitchin-blingo-w-kevin-corboy-10753
END:VEVENT

END:VCALENDAR
