BEGIN:VCALENDAR
VERSION:2.0
PRODID:-//ChamberMaster//Event Calendar 2.0//EN
METHOD:PUBLISH
X-PUBLISHED-TTL:P3D
REFRESH-INTERVAL:P3D
CALSCALE:GREGORIAN
BEGIN:VEVENT
DTSTART:20250509T033000Z
DTEND:20250509T053000Z
X-MICROSOFT-CDO-ALLDAYEVENT:FALSE
SUMMARY:Saint Rocke & Leadership Hermosa Beach – Beach B.A.L.L. presents: Dick the Citizen
DESCRIPTION:Leadership Hermosa Beach   Beach B.A.L.L. Presents: Dick the Citizen\n\nGenre: 90's grunge Cover Band
X-ALT-DESC;FMTTYPE=text/html:Leadership Hermosa Beach &ndash\; Beach B.A.L.L. Presents: Dick the Citizen<br />\nGenre: 90&rsquo\;s grunge Cover Band
LOCATION:Saint Rocke 142 Pacific Coast Hwy\, Hermosa Beach\, CA 90254
UID:e.2438.11609
SEQUENCE:3
DTSTAMP:20260422T225153Z
URL:https://business.hbchamber.net/events/details/saint-rocke-leadership-hermosa-beach-beach-b-a-l-l-presents-dick-the-citizen-11609
END:VEVENT

END:VCALENDAR
