BEGIN:VCALENDAR
VERSION:2.0
PRODID:-//ChamberMaster//Event Calendar 2.0//EN
METHOD:PUBLISH
X-PUBLISHED-TTL:P3D
REFRESH-INTERVAL:P3D
CALSCALE:GREGORIAN
BEGIN:VEVENT
DTSTART:20241227T030000Z
DTEND:20241227T040000Z
X-MICROSOFT-CDO-ALLDAYEVENT:FALSE
SUMMARY:Sacred Vibrations Circle
DESCRIPTION:Join us every 4th Thursday of the month at 7 PM on our stunning rooftop for the Sacred Vibrations Circle\, a heartfelt offering to our community. This transformative evening includes: Smudging Ceremony to cleanse and protect your energy. Sound Bath by Cesar Levy\, featuring gongs\, singing bowls\, and healing instruments. Reiki Fusion & Light Language Activation with Amaloa\, channeling profound healing and alignmentSet against the backdrop of the Pacific Ocean and the beautiful view of Hermosa Beach\, this circle creates a sacred space to connect\, heal\, and elevate. We provide wellness tea and cookies to nurture your body and spirit. The event is donation-based\, and your contributions help us keep the energy flowing. Special December Circle (12/26):Celebrate the holidays and prepare for the New Year with our beautiful community. Together\, we'll reflect\, balance\, and set powerful intentions to manifest a wonderful year ahead. Bring your yoga mat\, blanket\, and open heart.
X-ALT-DESC;FMTTYPE=text/html:Join us every 4th Thursday of the month at 7 PM on our stunning rooftop for the Sacred Vibrations Circle\, a heartfelt offering to our community. This transformative evening includes: Smudging Ceremony to cleanse and protect your energy. Sound Bath by Cesar Levy\, featuring gongs\, singing bowls\, and healing instruments. Reiki Fusion &amp\; Light Language Activation with Amaloa\, channeling profound healing and alignmentSet against the backdrop of the Pacific Ocean and the beautiful view of Hermosa Beach\, this circle creates a sacred space to connect\, heal\, and elevate. We provide wellness tea and cookies to nurture your body and spirit. The event is donation-based\, and your contributions help us keep the energy flowing. Special December Circle (12/26):Celebrate the holidays and prepare for the New Year with our beautiful community. Together\, we&rsquo\;ll reflect\, balance\, and set powerful intentions to manifest a wonderful year ahead. Bring your yoga mat\, blanket\, and open heart.<br />\n
LOCATION:Amaloa Healing Arts 200 Pier Avenue #206 Hermosa Beach\, CA 90254
UID:e.2438.11075
SEQUENCE:3
DTSTAMP:20260422T173056Z
URL:https://business.hbchamber.net/events/details/sacred-vibrations-circle-11075
END:VEVENT

END:VCALENDAR
