BEGIN:VCALENDAR
VERSION:2.0
PRODID:-//ChamberMaster//Event Calendar 2.0//EN
METHOD:PUBLISH
X-PUBLISHED-TTL:P3D
REFRESH-INTERVAL:P3D
CALSCALE:GREGORIAN
BEGIN:VEVENT
DTSTART:20241214T180000Z
DTEND:20241214T210000Z
X-MICROSOFT-CDO-ALLDAYEVENT:FALSE
SUMMARY:Sacred Sound
DESCRIPTION:Mantra means "mind protection" and reciting them can bring inner peace\, healing\, and a sense of protection. They are also a way to bring benefit to others who are suffering. Join us as we learn how to incorporate this simple\, powerful form of practice into our daily lives. Includes teaching and guided meditation. No previous experience is necessary. Everybody welcome!
X-ALT-DESC;FMTTYPE=text/html:Mantra means &ldquo\;mind protection&rdquo\; and reciting them can bring inner peace\, healing\, and a sense of protection. They are also a way to bring benefit to others who are suffering. Join us as we learn how to incorporate this simple\, powerful form of practice into our daily lives. Includes teaching and guided meditation. No previous experience is necessary. Everybody welcome!
LOCATION:Mahamudra Kadampa Meditation Center 500 6th St Hermosa Beach\, CA 90254
UID:e.2438.11043
SEQUENCE:3
DTSTAMP:20260420T202014Z
URL:https://business.hbchamber.net/events/details/sacred-sound-11043
END:VEVENT

END:VCALENDAR
