BEGIN:VCALENDAR
VERSION:2.0
PRODID:-//ChamberMaster//Event Calendar 2.0//EN
METHOD:PUBLISH
X-PUBLISHED-TTL:P3D
REFRESH-INTERVAL:P3D
CALSCALE:GREGORIAN
BEGIN:VEVENT
DTSTART:20250124T020000Z
DTEND:20250124T040000Z
X-MICROSOFT-CDO-ALLDAYEVENT:FALSE
SUMMARY:Rooted: A Biophilic Design Forum
DESCRIPTION:As Climate Change continues to grip our environment and challenges our future\, a time to seek natural building processes has never been more urgent. Building off the age-old construction techniques of our ancestors and seeking new technologies to design and build with nature to achieve Biophilic\, Natural\, and low/no Embodied Carbon buildings is the objective of this forum.\n\n\n\nOpen to the public\, but with a concentrated effort to promote attendance from architects\, engineers\, developers\, and business decision makers\, the format of this forum will be short presentations from select guest speakers\, followed by a panel discussion.
X-ALT-DESC;FMTTYPE=text/html:As Climate Change continues to grip our environment and challenges our future\, a time to seek natural building processes has never been more urgent. Building off the age-old construction techniques of our ancestors and seeking new technologies to design and build with nature to achieve Biophilic\, Natural\, and low/no Embodied Carbon buildings is the objective of this forum.<br />\n<br />\nOpen to the public\, but with a concentrated effort to promote attendance from architects\, engineers\, developers\, and business decision makers\, the format of this forum will be short presentations from select guest speakers\, followed by a panel discussion.
LOCATION:TLRS/Unita 832 Hermosa Ave Hermosa Beach\, CA 90254
UID:e.2438.11370
SEQUENCE:3
DTSTAMP:20260422T142809Z
URL:https://business.hbchamber.net/events/details/rooted-a-biophilic-design-forum-11370
END:VEVENT

END:VCALENDAR
