BEGIN:VCALENDAR
VERSION:2.0
PRODID:-//ChamberMaster//Event Calendar 2.0//EN
METHOD:PUBLISH
X-PUBLISHED-TTL:P3D
REFRESH-INTERVAL:P3D
CALSCALE:GREGORIAN
BEGIN:VEVENT
DTSTART:20250427T130000Z
DTEND:20250428T003000Z
X-MICROSOFT-CDO-ALLDAYEVENT:FALSE
SUMMARY:Riveria Cantina South Bay Surf Series
DESCRIPTION:The South Bay Boardriders Club will host the annual Surf Series\, which will feature contests with participants of all ages and various divisions south of the Pier.\n\n\n\nFor more information\, visit www.southbayboardriders.org.
X-ALT-DESC;FMTTYPE=text/html:The South Bay Boardriders Club will host the annual Surf Series\, which will feature contests with participants of all ages and various divisions south of the Pier.<br />\n<br />\nFor more information\, visit <a href="http://www.southbayboardriders.org">www.southbayboardriders.org</a>.
LOCATION:
UID:e.2438.11559
SEQUENCE:3
DTSTAMP:20260422T210506Z
URL:https://business.hbchamber.net/events/details/riveria-cantina-south-bay-surf-series-11559
END:VEVENT

END:VCALENDAR
