BEGIN:VCALENDAR
VERSION:2.0
PRODID:-//ChamberMaster//Event Calendar 2.0//EN
METHOD:PUBLISH
X-PUBLISHED-TTL:P3D
REFRESH-INTERVAL:P3D
CALSCALE:GREGORIAN
BEGIN:VEVENT
DTSTART;VALUE=DATE:20250504
DTEND;VALUE=DATE:20250505
TRANSP:TRANSPARENT
X-MICROSOFT-CDO-ALLDAYEVENT:TRUE
SUMMARY:RimoVision Group Presents: Dracula and Other Insidious Characters!
DESCRIPTION:Deals with the Devil are tricky especially when she's got a flair for drama and a taste for chaos. A vampire\, a nun\, and Satan walk into a caf ... and eternity may never be the same in this darkly funny tale of fate\, faith\, and very sharp teeth.\n\n\n\nFrom the creators behind Romeo and Juliet: A Wacky Love Story\, Disconnected\, and The Awkward Tale of Carrot and Those Who Art in Heaven! Comes a new dark comedy based on a true story... very loosely.
X-ALT-DESC;FMTTYPE=text/html:Deals with the Devil are tricky&mdash\;especially when she&rsquo\;s got a flair for drama and a taste for chaos. A vampire\, a nun\, and Satan walk into a caf&eacute\;... and eternity may never be the same in this darkly funny tale of fate\, faith\, and very sharp teeth.<br />\n<br />\nFrom the creators behind Romeo and Juliet: A Wacky Love Story\, Disconnected\, and The Awkward Tale of Carrot and Those Who Art in Heaven! Comes a new dark comedy based on a true story... very loosely.
LOCATION:Second Story Theatre 710 Pier Ave Hermosa Beach\, CA 90254
UID:e.2438.11429
SEQUENCE:3
DTSTAMP:20260422T225020Z
URL:https://business.hbchamber.net/events/details/rimovision-group-presents-dracula-and-other-insidious-characters-11429
END:VEVENT

END:VCALENDAR
