BEGIN:VCALENDAR
VERSION:2.0
PRODID:-//ChamberMaster//Event Calendar 2.0//EN
METHOD:PUBLISH
X-PUBLISHED-TTL:P3D
REFRESH-INTERVAL:P3D
CALSCALE:GREGORIAN
BEGIN:VEVENT
DTSTART:20250119T020000Z
DTEND:20250119T053000Z
X-MICROSOFT-CDO-ALLDAYEVENT:FALSE
SUMMARY:RimoVision Comedy Night #7
DESCRIPTION:RimoVision Group presents its Comedy Night #7\, with two lineup of funny comedians: 6 PM and 8 PM\, with headliner Agostino Zoida.
X-ALT-DESC;FMTTYPE=text/html:RimoVision Group presents its Comedy Night #7\, with two lineup of funny comedians: 6 PM and 8 PM\, with headliner Agostino Zoida.
LOCATION:Second Story Theatre\, Hermosa Beach Community Center
UID:e.2438.11074
SEQUENCE:3
DTSTAMP:20260420T183302Z
URL:https://business.hbchamber.net/events/details/rimovision-comedy-night-7-11074
END:VEVENT

END:VCALENDAR
