BEGIN:VCALENDAR
VERSION:2.0
PRODID:-//ChamberMaster//Event Calendar 2.0//EN
METHOD:PUBLISH
X-PUBLISHED-TTL:P3D
REFRESH-INTERVAL:P3D
CALSCALE:GREGORIAN
BEGIN:VEVENT
DTSTART:20220326T210000Z
DTEND:20220327T000000Z
X-MICROSOFT-CDO-ALLDAYEVENT:FALSE
SUMMARY:Ribbon Cutting: Mobi Scooters
DESCRIPTION:Mobi Scooters will celebrating their Grand Opening at 1401 Hermosa Ave\, Hermosa Beach\, CA 90254\, with a ribbon-cutting ceremony performed by the Hermosa Beach Chamber of Commerce on March 26th\, 2022\, at 2PM. Doors open at 9AM. We are delighted to celebrate with the City of Hermosa Beach\, its representatives\, and the Hermosa Beach Chamber of Commerce.\n\n \n\nMobi Scooters is a Hermosa Beach- based minority and family-owned electric scooter rental company. We are an eco-friendly business providing the latest and most modern scooters for rent and purchase. Our mission is for everyone to have an unforgettable experience during their time with us. We are dedicated to making our customers time with us\, both exciting and safe.
X-ALT-DESC;FMTTYPE=text/html:<span style="color:#000000\;"><span style="font-size:14px\;"><span style="font-family:arial\;">Mobi Scooters will celebrating their Grand Opening at 1401 Hermosa Ave\, Hermosa Beach\, CA 90254\, with a ribbon-cutting ceremony performed by the Hermosa Beach Chamber of Commerce on March 26<sup>th</sup>\, 2022\, at 2PM. Doors open at 9AM. We are delighted to celebrate with the City of Hermosa Beach\, its representatives\, and the Hermosa Beach Chamber of Commerce.<br />\n&nbsp\;<br />\nMobi Scooters is a Hermosa Beach- based minority and family-owned electric scooter rental company. We are an eco-friendly business providing the latest and most modern scooters for rent and purchase. Our mission is for everyone to have an unforgettable experience during their time with us. We are dedicated to making our customers time with us\, both exciting and safe. </span></span></span><br />\n&nbsp\;
LOCATION:1401 Hermosa Avenue
UID:e.2438.5314
SEQUENCE:3
DTSTAMP:20260421T105345Z
URL:https://business.hbchamber.net/events/details/ribbon-cutting-mobi-scooters-5314
END:VEVENT

END:VCALENDAR
