BEGIN:VCALENDAR
VERSION:2.0
PRODID:-//ChamberMaster//Event Calendar 2.0//EN
METHOD:PUBLISH
X-PUBLISHED-TTL:P3D
REFRESH-INTERVAL:P3D
CALSCALE:GREGORIAN
BEGIN:VEVENT
DTSTART:20241102T230000Z
DTEND:20241103T040000Z
X-MICROSOFT-CDO-ALLDAYEVENT:FALSE
SUMMARY:‘Resin from the Dead’ Gen-Z Art Show + Concert
DESCRIPTION:HANG OUT WITH US ON HALLOWEEKEND AND ROAM THROUGH AN ART EXHIBITION\, LOSE YOURSELF TO LIVE MUSIC\, WATCH THE PREMIER OF A MUSIC VIDEO\, AND FLAUNT YOUR FREAK IN THE COSTUME CONTEST  IN OTHER WORDS: HALLOWEEN PARTYYYYYY
X-ALT-DESC;FMTTYPE=text/html:HANG OUT WITH US ON HALLOWEEKEND AND ROAM THROUGH AN ART EXHIBITION\, LOSE YOURSELF TO LIVE MUSIC\, WATCH THE PREMIER OF A MUSIC VIDEO\, AND FLAUNT YOUR FREAK IN THE COSTUME CONTEST&hellip\; IN OTHER WORDS: HALLOWEEN PARTYYYYYY
LOCATION:
UID:e.2438.10794
SEQUENCE:3
DTSTAMP:20260422T192823Z
URL:https://business.hbchamber.net/events/details/resin-from-the-dead-gen-z-art-show-concert-10794
END:VEVENT

END:VCALENDAR
