BEGIN:VCALENDAR
VERSION:2.0
PRODID:-//ChamberMaster//Event Calendar 2.0//EN
METHOD:PUBLISH
X-PUBLISHED-TTL:P3D
REFRESH-INTERVAL:P3D
CALSCALE:GREGORIAN
BEGIN:VEVENT
DTSTART:20240226T200000Z
DTEND:20240226T210000Z
X-MICROSOFT-CDO-ALLDAYEVENT:FALSE
SUMMARY:RESCHEDULED State of Business Walking Tour
DESCRIPTION:Join us for a quick walking tour with the business owners and City officials to talk about the state of business in Hermosa.
X-ALT-DESC;FMTTYPE=text/html:Join us for a quick walking tour with the business owners and City officials to talk about the state of business in Hermosa.&nbsp\;
LOCATION:Hermosa Beach Chamber of Commerce 120 Pier Ave. Hermosa Beach\, 90254
UID:e.2438.9357
SEQUENCE:3
DTSTAMP:20260419T131925Z
URL:https://business.hbchamber.net/events/details/rescheduled-state-of-business-walking-tour-9357
END:VEVENT

END:VCALENDAR
