BEGIN:VCALENDAR
VERSION:2.0
PRODID:-//ChamberMaster//Event Calendar 2.0//EN
METHOD:PUBLISH
X-PUBLISHED-TTL:P3D
REFRESH-INTERVAL:P3D
CALSCALE:GREGORIAN
BEGIN:VEVENT
DTSTART:20241212T010000Z
DTEND:20241212T023000Z
X-MICROSOFT-CDO-ALLDAYEVENT:FALSE
SUMMARY:Reflections with Amaloa (Online)
DESCRIPTION:
X-ALT-DESC;FMTTYPE=text/html:
LOCATION:ONLINE
UID:e.2438.11049
SEQUENCE:3
DTSTAMP:20260422T173106Z
URL:https://business.hbchamber.net/events/details/reflections-with-amaloa-online-11049
END:VEVENT

END:VCALENDAR
