BEGIN:VCALENDAR
VERSION:2.0
PRODID:-//ChamberMaster//Event Calendar 2.0//EN
METHOD:PUBLISH
X-PUBLISHED-TTL:P3D
REFRESH-INTERVAL:P3D
CALSCALE:GREGORIAN
BEGIN:VEVENT
DTSTART:20250103T020000Z
DTEND:20250103T040000Z
X-MICROSOFT-CDO-ALLDAYEVENT:FALSE
SUMMARY:Reflection with Amaloa
DESCRIPTION:This powerful session will help you align with your goals and dreams for the year ahead\, tapping into your highest potential. As always\, we'll share wellness teas and cookies to nourish your body and soul.
X-ALT-DESC;FMTTYPE=text/html:This powerful session will help you align with your goals and dreams for the year ahead\, tapping into your highest potential. As always\, we&rsquo\;ll share wellness teas and cookies to nourish your body and soul.
LOCATION:Amaloa Healing Arts\, Wholeness Room 200 Pier Ave\, STE 206 Hermosa Beach\, CA 90254
UID:e.2438.11106
SEQUENCE:3
DTSTAMP:20260420T181258Z
URL:https://business.hbchamber.net/events/details/reflection-with-amaloa-11106
END:VEVENT

END:VCALENDAR
