BEGIN:VCALENDAR
VERSION:2.0
PRODID:-//ChamberMaster//Event Calendar 2.0//EN
METHOD:PUBLISH
X-PUBLISHED-TTL:P3D
REFRESH-INTERVAL:P3D
CALSCALE:GREGORIAN
BEGIN:VEVENT
DTSTART:20250206T020000Z
DTEND:20250206T033000Z
X-MICROSOFT-CDO-ALLDAYEVENT:FALSE
SUMMARY:Ready\, Set\, Go: Taking Charge of Your College Admissions Journey
DESCRIPTION:Join us to learn how to plan with purpose and what you can do now to succeed in college admissions. This event is ideal for sophomores and juniors in high school and their parents. Refreshments will be served. Campus tours will be available from 5:30 PM - 6:00 PM for those interested in learning more about Fusion Academy.
X-ALT-DESC;FMTTYPE=text/html:Join us to learn how to plan with purpose and what you can do now to succeed in college admissions. This event is ideal for sophomores and juniors in high school and their parents. Refreshments will be served. Campus tours will be available from 5:30 PM - 6:00 PM for those interested in learning more about Fusion Academy.
LOCATION:Fusion Academy South Bay Campus 1601 Pacific Coast Hwy\, Suite 260 Hermosa Beach\, CA 90254
UID:e.2438.11411
SEQUENCE:3
DTSTAMP:20260422T173523Z
URL:https://business.hbchamber.net/events/details/ready-set-go-taking-charge-of-your-college-admissions-journey-11411
END:VEVENT

END:VCALENDAR
