BEGIN:VCALENDAR
VERSION:2.0
PRODID:-//ChamberMaster//Event Calendar 2.0//EN
METHOD:PUBLISH
X-PUBLISHED-TTL:P3D
REFRESH-INTERVAL:P3D
CALSCALE:GREGORIAN
BEGIN:VEVENT
DTSTART:20250609T010000Z
DTEND:20250609T043000Z
X-MICROSOFT-CDO-ALLDAYEVENT:FALSE
SUMMARY:Radici Wine Pairing Dinner
DESCRIPTION:June Wine Pairing Dinner\n\nWe invite you to join us at Radici on Sunday\, June 8th\, at 6:00 PM for our upcoming Wine Pairing Dinner.\n\n\n\nAt Radici\, our wine pairing dinners are intimate\, immersive experiences designed to celebrate the beauty of Italian culinary tradition. Each course tells a story of seasonality\, of technique\, and of pairing the kind of night where the food\, wine\, and conversation linger long after the final toast.
X-ALT-DESC;FMTTYPE=text/html:<strong>June Wine Pairing Dinner</strong><br />\nWe invite you to join us at Radici on Sunday\, June 8th\, at 6:00 PM for our upcoming Wine Pairing Dinner.<br />\n<br />\nAt Radici\, our wine pairing dinners are intimate\, immersive experiences designed to celebrate the beauty of Italian culinary tradition. Each course tells a story&mdash\;of seasonality\, of technique\, and of pairing&mdash\;the kind of night where the food\, wine\, and conversation linger long after the final toast.&nbsp\;
LOCATION:Radici 934 Hermosa Ave Hermosa Beach\, CA
UID:e.2438.12380
SEQUENCE:3
DTSTAMP:20260423T003856Z
URL:https://business.hbchamber.net/events/details/radici-wine-pairing-dinner-12380
END:VEVENT

END:VCALENDAR
