BEGIN:VCALENDAR
VERSION:2.0
PRODID:-//ChamberMaster//Event Calendar 2.0//EN
METHOD:PUBLISH
X-PUBLISHED-TTL:P3D
REFRESH-INTERVAL:P3D
CALSCALE:GREGORIAN
BEGIN:VEVENT
DTSTART:20250505T013000Z
DTEND:20250505T043000Z
X-MICROSOFT-CDO-ALLDAYEVENT:FALSE
SUMMARY:Radici Wine Pairing Dinner
DESCRIPTION:Experience an unforgettable evening at Radici on May 4th at 6:30 PM. Enjoy exceptional wines and refined flavors for $145 per guest. This dinner is highly anticipated and exclusive - only 12 spots available!\n\n\n\nThis next wine pairing dinner will highlight dishes like Spaghetti prosciutto e limone\, a delicate balance of salty prosciutto and zesty lemon\, and the delightful Gnocchi Fritto\, a crispy take on a beloved classic. Each course is thoughtfully paired with wines to bring out the nuanced beauty of these Italian vintages.  \n\n\n\nWe look forward to welcoming you to this extraordinary evening!
X-ALT-DESC;FMTTYPE=text/html:Experience an unforgettable evening at Radici on <strong>May 4th at 6:30 PM</strong>. Enjoy exceptional wines and refined flavors for <strong>$145 per guest. This dinner is highly anticipated and exclusive - only 12 spots available!</strong><br />\n<br />\nThis next wine pairing dinner will highlight dishes like Spaghetti prosciutto e limone\, a delicate balance of salty prosciutto and zesty lemon\, and the delightful Gnocchi Fritto\, a crispy take on a beloved classic. Each course is thoughtfully paired with wines to bring out the nuanced beauty of these Italian vintages.&nbsp\;&nbsp\;<br />\n<br />\nWe look forward to welcoming you to this extraordinary evening!&nbsp\;
LOCATION:Radici 934 Hermosa Ave Hermosa Beach\, CA
UID:e.2438.12230
SEQUENCE:3
DTSTAMP:20260422T231505Z
URL:https://business.hbchamber.net/events/details/radici-wine-pairing-dinner-12230
END:VEVENT

END:VCALENDAR
