BEGIN:VCALENDAR
VERSION:2.0
PRODID:-//ChamberMaster//Event Calendar 2.0//EN
METHOD:PUBLISH
X-PUBLISHED-TTL:P3D
REFRESH-INTERVAL:P3D
CALSCALE:GREGORIAN
BEGIN:VEVENT
DTSTART:20250120T020000Z
DTEND:20250120T030000Z
X-MICROSOFT-CDO-ALLDAYEVENT:FALSE
SUMMARY:Radici Wine Dinner
DESCRIPTION:Join us Sunday\, January 19th at 6:00 PM for our next wine dinner. Immerse yourself in the essence of Abruzzo with a beautifully crafted meal by our talented chef\, featuring authentic dishes paired with hand-selected wines for a perfect balance of flavor.
X-ALT-DESC;FMTTYPE=text/html:Join us Sunday\, January 19th at 6:00 PM for our next wine dinner. Immerse yourself in the essence of Abruzzo with a beautifully crafted meal by our talented chef\, featuring authentic dishes paired with hand-selected wines for a perfect balance of flavor.&nbsp\;
LOCATION:Radici 934 Hermosa Ave Hermosa Beach\, CA 90254
UID:e.2438.11395
SEQUENCE:3
DTSTAMP:20260420T204652Z
URL:https://business.hbchamber.net/events/details/radici-wine-dinner-11395
END:VEVENT

END:VCALENDAR
