BEGIN:VCALENDAR
VERSION:2.0
PRODID:-//ChamberMaster//Event Calendar 2.0//EN
METHOD:PUBLISH
X-PUBLISHED-TTL:P3D
REFRESH-INTERVAL:P3D
CALSCALE:GREGORIAN
BEGIN:VEVENT
DTSTART:20241118T020000Z
DTEND:20241118T040000Z
X-MICROSOFT-CDO-ALLDAYEVENT:FALSE
SUMMARY:Radici's November Wine Dinner
DESCRIPTION:Join us for a special event! Immerse yourself in the essence of Abruzzo with a beautifully crafted meal by our talented chef\, featuring authentic dishes paired with hand-selected wines for a perfect balance of flavors.
X-ALT-DESC;FMTTYPE=text/html:Join us for a special event! Immerse yourself in the essence of Abruzzo with a beautifully crafted meal by our talented chef\, featuring authentic dishes paired with hand-selected wines for a perfect balance of flavors.<br />\n
LOCATION:Radici 934 Hermosa Ave Hermosa Beach\, CA 90254
UID:e.2438.10807
SEQUENCE:3
DTSTAMP:20260422T192421Z
URL:https://business.hbchamber.net/events/details/radici-s-november-wine-dinner-10807
END:VEVENT

END:VCALENDAR
