BEGIN:VCALENDAR
VERSION:2.0
PRODID:-//ChamberMaster//Event Calendar 2.0//EN
METHOD:PUBLISH
X-PUBLISHED-TTL:P3D
REFRESH-INTERVAL:P3D
CALSCALE:GREGORIAN
BEGIN:VEVENT
DTSTART:20241213T000000Z
DTEND:20241213T020000Z
X-MICROSOFT-CDO-ALLDAYEVENT:FALSE
SUMMARY:Radici Happy Hour
DESCRIPTION:Enjoy Radici Happy Hour with special prices for select wine\, select cocktails\, and appetizers (chef's choice)!
X-ALT-DESC;FMTTYPE=text/html:Enjoy Radici Happy Hour with special prices for select wine\, select cocktails\, and appetizers (chef&#39\;s choice)!
LOCATION:Radici 934 Hermosa Ave Hermosa Beach\, CA 90254
UID:e.2438.9780
SEQUENCE:3
DTSTAMP:20260420T202408Z
URL:https://business.hbchamber.net/events/details/radici-happy-hour-12-12-2024-9780
END:VEVENT

END:VCALENDAR
